BEGIN:VCALENDAR
VERSION:2.0
PRODID:-//Capital Prosperity Foundation - ECPv6.15.20//NONSGML v1.0//EN
CALSCALE:GREGORIAN
METHOD:PUBLISH
X-ORIGINAL-URL:https://capitalprosperity.org
X-WR-CALDESC:Events for Capital Prosperity Foundation
REFRESH-INTERVAL;VALUE=DURATION:PT1H
X-Robots-Tag:noindex
X-PUBLISHED-TTL:PT1H
BEGIN:VTIMEZONE
TZID:America/New_York
BEGIN:DAYLIGHT
TZOFFSETFROM:-0500
TZOFFSETTO:-0400
TZNAME:EDT
DTSTART:20250309T070000
END:DAYLIGHT
BEGIN:STANDARD
TZOFFSETFROM:-0400
TZOFFSETTO:-0500
TZNAME:EST
DTSTART:20251102T060000
END:STANDARD
BEGIN:DAYLIGHT
TZOFFSETFROM:-0500
TZOFFSETTO:-0400
TZNAME:EDT
DTSTART:20260308T070000
END:DAYLIGHT
BEGIN:STANDARD
TZOFFSETFROM:-0400
TZOFFSETTO:-0500
TZNAME:EST
DTSTART:20261101T060000
END:STANDARD
BEGIN:DAYLIGHT
TZOFFSETFROM:-0500
TZOFFSETTO:-0400
TZNAME:EDT
DTSTART:20270314T070000
END:DAYLIGHT
BEGIN:STANDARD
TZOFFSETFROM:-0400
TZOFFSETTO:-0500
TZNAME:EST
DTSTART:20271107T060000
END:STANDARD
END:VTIMEZONE
BEGIN:VEVENT
DTSTART;TZID=America/New_York:20260514T064500
DTEND;TZID=America/New_York:20260514T170000
DTSTAMP:20260422T230521
CREATED:20250130T184553Z
LAST-MODIFIED:20260323T224845Z
UID:3103-1778741100-1778778000@capitalprosperity.org
SUMMARY:Join us in supporting Children's Food Insecurity
DESCRIPTION:Help feed Ottawa’s vulnerable children								\n				\n				\n				\n									The 1st Annual Kiwanis-CPF Charity Golf Tournament: This event offers the perfect blend of camaraderie and competition. The early bird start ensures you’ll enjoy a full game\, bid on the silent auction\, and still get home in time for dinner! Get outside for a day of golf and good company\, all while supporting Kiwainis and CPF’s mission to help Ottawa children in need. All proceeds from this event will benefit the Kiwanis Club of Ottawa\, Nutrition Blocs and CPF. Click Register to see your Sponsorship options! 								\n				\n				\n				\n									Event Schedule:								\n				\n				\n				\n									6:45 a.m.: Registration Opens7:00 a.m.: Breakfast8:00 a.m.: Tournament Begins2:30 p.m.: Cocktails and Auction								\n				\n				\n				\n									Why Attend?								\n				\n				\n				\n									Support Ottawa’s vulnerable children and their families.Network with corporate leadersEnjoy a full day of golf and camaraderie								\n				\n				\n				\n									Sponsorship Opportunities:								\n				\n				\n				\n									Golf Tournament Sponsorship: To view our numerous sponsorship options\, register for the tournament\, or donate to the auction\, please click here.Book your foursome today and don’t miss your chance to make a meaningful impact in the community!								\n				\n				\n				\n									Support Capital Prosperity Foundation and ONFE								\n				\n				\n				\n									By participating in the Annual Charity Golf Tournament\, your business will support life-changing initiatives for Ottawa’s children. Let’s celebrate 40 years of the School Breakfast Program and lay the foundation for another 40 years of helping Ottawa students thrive!
URL:https://capitalprosperity.org/event/join-us-in-supporting-childrens-food-insecurity/
LOCATION:Stonebridge Golf Club\, 68 Hawktree Ridge\, Nepean\, Ontario\, K2J 5N3\, Canada
CATEGORIES:Golf
ATTACH;FMTTYPE=image/jpeg:https://capitalprosperity.org/wp-content/uploads/2025/01/iStock-946358204.jpg
ORGANIZER;CN="Capital Prosperity Foundation":MAILTO:info@capitalprosperity.org
END:VEVENT
END:VCALENDAR